BEGIN:VCALENDAR
VERSION:2.0
PRODID:-//جامعة ميلة
CALSCALE:GREGORIAN
METHOD:PUBLISH
X-WR-CALNAME:جامعة ميلة
X-ORIGINAL-URL:https://www.univ-mila.dz/?u_event=%D8%A7%D9%84%D9%85%D9%84%D8%AA%D9%82%D9%89-%D8%A7%D9%84%D9%88%D8%B7%D9%86%D9%8A-%D8%A7%D9%84%D8%A3%D9%88%D9%91%D9%84-%D8%AD%D9%88%D9%84-%D8%B5%D8%B9%D9%88%D8%A8%D8%A7%D8%AA-%D8%A7%D9%84%D8%AA%D8%B9
X-WR-CALDESC:الملتقى الوطني الأوّل حول : صعوبات التعلّم النمائية
BEGIN:VEVENT
DTSTART:20201222T000000
DTEND:20201223T000000
SUMMARY:الملتقى الوطني الأوّل حول : صعوبات التعلّم النمائية
DESCRIPTION:من تنظيم معهد الاداب واللغات 
LOCATION:جامعة عبد الحفيظ بوالصوف ميلة
END:VEVENT
END:VCALENDAR
