BEGIN:VCALENDAR
VERSION:2.0
PRODID:-//جامعة ميلة
CALSCALE:GREGORIAN
METHOD:PUBLISH
X-WR-CALNAME:جامعة ميلة
X-ORIGINAL-URL:https://www.univ-mila.dz/?u_event=%D9%85%D8%B1%D9%83%D8%B2-%D8%AA%D8%B7%D9%88%D9%8A%D8%B1-%D8%A7%D9%84%D9%85%D9%82%D8%A7%D9%88%D9%84%D8%A7%D8%AA%D9%8A%D8%A9-%D9%8A%D9%86%D8%B8%D9%85-%D8%AF%D9%88%D8%B1%D8%A9-%D8%AA%D9%83%D9%88%D9%8A
X-WR-CALDESC:مركز تطوير المقاولاتية ينظم دورة تكوينية يوم 06 ديسمبر 2023 بعنوان: كيف تسوق لمشروعك؟ ?How to market your business من تقديم الدكتور معاد ميمون- محاور الدورة وتفاصيل التسجيل تجدونها في الإعلان‎ Boîte de réception
BEGIN:VEVENT
DTSTART:20231206T000000
DTEND:20231206T000000
SUMMARY:مركز تطوير المقاولاتية ينظم دورة تكوينية يوم 06 ديسمبر 2023 بعنوان: كيف تسوق لمشروعك؟ ?How to market your business من تقديم الدكتور معاد ميمون- محاور الدورة وتفاصيل التسجيل تجدونها في الإعلان‎ Boîte de réception
DESCRIPTION:       
LOCATION:
END:VEVENT
END:VCALENDAR
