BEGIN:VCALENDAR
VERSION:2.0
PRODID:-//جامعة ميلة
CALSCALE:GREGORIAN
METHOD:PUBLISH
X-WR-CALNAME:جامعة ميلة
X-ORIGINAL-URL:https://www.univ-mila.dz/?u_event=%D9%85%D9%84%D8%AA%D9%82%D9%89-%D8%B9%D9%84%D9%85%D9%8A-%D9%88%D8%B7%D9%86%D9%8A-%D8%AD%D9%88%D9%84-%D8%A7%D9%84%D9%85%D9%88%D8%A7%D8%AF-%D8%A7%D9%84%D8%B7%D8%A8%D9%8A%D8%B9%D9%8A%D8%A9-%D9%88%D8%A7-2
X-WR-CALDESC:الملتقى الوطني الثاني حول المواد الطبيعية والتكنولوجيا الحيوية والابتكارات ( SNBI 2023)
BEGIN:VEVENT
DTSTART:20231128T000000
DTEND:20231129T000000
SUMMARY:الملتقى الوطني الثاني حول المواد الطبيعية والتكنولوجيا الحيوية والابتكارات ( SNBI 2023)
DESCRIPTION: يومي 28-29 نوفمبر 2023  
LOCATION:جامعة عبد الحفيظ بوالصوف ميلة
END:VEVENT
END:VCALENDAR
