BEGIN:VCALENDAR
VERSION:2.0
PRODID:-//جامعة ميلة
CALSCALE:GREGORIAN
METHOD:PUBLISH
X-WR-CALNAME:جامعة ميلة
X-ORIGINAL-URL:https://www.univ-mila.dz/?u_event=%D8%A5%D8%B9%D9%84%D8%A7%D9%86-%D8%B9%D9%86-%D8%AA%D9%86%D8%B8%D9%8A%D9%85-%D9%85%D9%84%D8%AA%D9%82%D9%89-%D9%88%D8%B7%D9%86%D9%8A-%D8%A8%D8%B9%D9%86%D9%88%D8%A7%D9%86-%D8%A7%D9%84%D8%AA%D9%86%D9%88
X-WR-CALDESC:إعلان عن تنظيم ملتقى وطني بعنوان: التنوع البيولوجي: الصحة، البيئة: تحديات التنمية المستدامة، عبر تقنية التحاضر عن بعد بتاريخ 25 سبتمبر2023 برئاسة الدكتورة ظوافر لويزة‎‎
BEGIN:VEVENT
DTSTART:20230925T080000
DTEND:
SUMMARY:إعلان عن تنظيم ملتقى وطني بعنوان: التنوع البيولوجي: الصحة، البيئة: تحديات التنمية المستدامة، عبر تقنية التحاضر عن بعد بتاريخ 25 سبتمبر2023 برئاسة الدكتورة ظوافر لويزة‎‎
DESCRIPTION:ملتقى
LOCATION:
END:VEVENT
END:VCALENDAR
