BEGIN:VCALENDAR
VERSION:2.0
PRODID:-//جامعة ميلة
CALSCALE:GREGORIAN
METHOD:PUBLISH
X-WR-CALNAME:جامعة ميلة
X-ORIGINAL-URL:https://www.univ-mila.dz/?u_event=%D8%A5%D8%B9%D9%84%D8%A7%D9%86-%D8%B9%D9%86-%D8%A8%D8%B1%D9%85%D8%AC%D8%A9-%D9%85%D9%84%D8%AA%D9%82%D9%89-%D9%88%D8%B7%D9%86%D9%8A-%D9%81%D9%8A-%D8%A5%D8%B7%D8%A7%D8%B1-%D8%A7%D9%84%D8%A3%D9%8A%D8%A7
X-WR-CALDESC:إعلان عن برمجة ملتقى وطني في إطار الأيام التكوينية لطلبة الدكتوراه
BEGIN:VEVENT
DTSTART:20230227T000000
DTEND:20230227T000000
SUMMARY:إعلان عن برمجة ملتقى وطني في إطار الأيام التكوينية لطلبة الدكتوراه
DESCRIPTION:دورة تكوينية
LOCATION:
END:VEVENT
END:VCALENDAR
