BEGIN:VCALENDAR
VERSION:2.0
PRODID:-//جامعة ميلة
CALSCALE:GREGORIAN
METHOD:PUBLISH
X-WR-CALNAME:جامعة ميلة
X-ORIGINAL-URL:https://www.univ-mila.dz/?u_event=%D9%85%D9%84%D8%AA%D9%82%D9%89-%D9%88%D8%B7%D9%86%D9%8A-%D8%A7%D9%84%D9%85%D9%86%D8%A7%D8%B2%D8%B9%D8%A7%D8%AA-%D8%A7%D9%84%D8%B9%D9%85%D8%B1%D8%A7%D9%86%D9%8A%D8%A9-%D9%81%D9%8A-%D8%A7%D9%84
X-WR-CALDESC:ملتقى وطني : &#8220;المنازعات العمرانية في التشريع الجزائري&#8221;
BEGIN:VEVENT
DTSTART:20221019T000000
DTEND:20221019T000000
SUMMARY:ملتقى وطني : &#8220;المنازعات العمرانية في التشريع الجزائري&#8221;
DESCRIPTION:عبر تقنية التحاضر عن بعد بتاريخ 19 اكتوبر 2022 للدكتورة زعيتر سمية ‎‎
LOCATION:جامعة عبد الحفيظ بوالصوف ميلة
END:VEVENT
END:VCALENDAR
