BEGIN:VCALENDAR
VERSION:2.0
PRODID:-//جامعة ميلة
CALSCALE:GREGORIAN
METHOD:PUBLISH
X-WR-CALNAME:جامعة ميلة
X-ORIGINAL-URL:https://www.univ-mila.dz/?u_event=%D8%A7%D9%84%D8%A7%D9%82%D8%AA%D8%B5%D8%A7%D8%AF-%D8%A7%D9%84%D8%AC%D8%B2%D8%A7%D8%A6%D8%B1%D9%8A-%D8%A8%D9%8A%D9%86-%D8%A7%D9%84%D8%AA%D8%A8%D8%B9%D9%8A%D8%A9-%D8%A7%D9%84%D9%86%D9%81%D8%B7%D9%8A
X-WR-CALDESC:الاقتصاد الجزائري بين التبعية النفطية وحتمية التنويع الاقتصادي
BEGIN:VEVENT
DTSTART:20211114T000000
DTEND:20211114T000000
SUMMARY:الاقتصاد الجزائري بين التبعية النفطية وحتمية التنويع الاقتصادي
DESCRIPTION: يوم 14 نوفمبر 2021
LOCATION:جامعة عبد الحفيظ بوالصوف ميلة
END:VEVENT
END:VCALENDAR
