BEGIN:VCALENDAR
VERSION:2.0
PRODID:-//جامعة ميلة
CALSCALE:GREGORIAN
METHOD:PUBLISH
X-WR-CALNAME:جامعة ميلة
X-ORIGINAL-URL:https://www.univ-mila.dz/?u_event=%D8%A5%D8%B9%D9%84%D8%A7%D9%86-%D8%B9%D9%86-%D8%AA%D8%AA%D9%86%D8%B8%D9%8A%D9%85-%D9%85%D9%84%D8%AA%D9%82%D9%89-%D9%88%D8%B7%D9%86%D9%8A-%D8%AD%D9%88%D9%84-%D8%A7%D9%84%D8%AA%D8%B7%D9%88%D8%B9
X-WR-CALDESC:إعلان عن تتنظيم ملتقى وطني بعنوان:“الإبداع الأدبي من الورقية إلى الالكترونية سؤال المفاهيم ورهان الأنساق ”  يومي 06و07 أفريل 2021
BEGIN:VEVENT
DTSTART:20210406T000000
DTEND:20210407T000000
SUMMARY:إعلان عن تتنظيم ملتقى وطني بعنوان:“الإبداع الأدبي من الورقية إلى الالكترونية سؤال المفاهيم ورهان الأنساق ”  يومي 06و07 أفريل 2021
DESCRIPTION:ينظم معهد  الآداب واللغات الملتقى الوطني عبر تقنية التحاضر عن بعد بواسطة تقنية Google Meet  بعنوان:
“الإبداع الأدبي من الورقية إلى الالكترونية سؤال المفاهيم ورهان الأنساق ”  يومي 06 و 07 أفريل 2021
LOCATION:جامعة عبد الحفيظ بوالصوف ميلة
END:VEVENT
END:VCALENDAR
