BEGIN:VCALENDAR
VERSION:2.0
PRODID:-//جامعة ميلة
CALSCALE:GREGORIAN
METHOD:PUBLISH
X-WR-CALNAME:جامعة ميلة
X-ORIGINAL-URL:https://www.univ-mila.dz/?u_event=%D9%86%D9%8E%D8%AF%D9%92%D9%88%D9%8E%D8%A9%D9%8B-%D8%B9%D9%90%D9%84%D9%92%D9%85%D9%90%D9%8A%D9%91%D9%8E%D8%A9%D9%8B-%D9%88%D9%8E%D8%B7%D9%8E%D9%86%D9%90%D9%8A%D9%91%D9%8E%D8%A9%D9%8B%D8%A7%D9%84
X-WR-CALDESC:نَدْوَةً عِلْمِيَّةً وَطَنِيَّةً:(اللُّغَةُ الْعَرَبِيَّةُ وَالذَّكَاءُ الاِصْطِنَاعِيُّ: الْوَاقِعُ وَالآفَاق)
BEGIN:VEVENT
DTSTART:20201220T000000
DTEND:20201220T000000
SUMMARY:نَدْوَةً عِلْمِيَّةً وَطَنِيَّةً:(اللُّغَةُ الْعَرَبِيَّةُ وَالذَّكَاءُ الاِصْطِنَاعِيُّ: الْوَاقِعُ وَالآفَاق)
DESCRIPTION:من خلية الجودة
LOCATION:جامعة عبد الحفيظ بوالصوف ميلة
END:VEVENT
END:VCALENDAR
