BEGIN:VCALENDAR
VERSION:2.0
PRODID:-//جامعة ميلة
CALSCALE:GREGORIAN
METHOD:PUBLISH
X-WR-CALNAME:جامعة ميلة
X-ORIGINAL-URL:https://www.univ-mila.dz/?u_event=%D9%85%D9%84%D8%AA%D9%82%D9%89-%D8%AF%D9%88%D9%84%D9%8A-%D8%AA%D8%AD%D8%AA-%D8%B9%D9%86%D9%88%D8%A7%D9%86-%D8%A7%D9%84%D8%B5%D9%88%D8%B1%D8%A9%D8%8C-%D9%85%D8%B3%D8%A7%D8%B1%D8%A7%D8%AA-%D8%A7%D9%84
X-WR-CALDESC:ملتقى دولي تحت عنوان&#8221; الصورة، مسارات التشكل ورهانات التأويل&#8221;
BEGIN:VEVENT
DTSTART:20201208T000000
DTEND:20201209T000000
SUMMARY:ملتقى دولي تحت عنوان&#8221; الصورة، مسارات التشكل ورهانات التأويل&#8221;
DESCRIPTION:ملتقى دولي عن بعد عبر غوغل ميت(Google Meet)
LOCATION:جامعة عبد الحفيظ بوالصوف ميلة
END:VEVENT
END:VCALENDAR
